BEGIN:VCALENDAR
VERSION:2.0
PRODID:-//Landsmannschaft Weichsel-Warthe - ECPv6.2.2//NONSGML v1.0//EN
CALSCALE:GREGORIAN
METHOD:PUBLISH
X-ORIGINAL-URL:https://weichsel-warthe.de
X-WR-CALDESC:Veranstaltungen für Landsmannschaft Weichsel-Warthe
REFRESH-INTERVAL;VALUE=DURATION:PT1H
X-Robots-Tag:noindex
X-PUBLISHED-TTL:PT1H
BEGIN:VTIMEZONE
TZID:Europe/Helsinki
BEGIN:DAYLIGHT
TZOFFSETFROM:+0200
TZOFFSETTO:+0300
TZNAME:EEST
DTSTART:20250330T010000
END:DAYLIGHT
BEGIN:STANDARD
TZOFFSETFROM:+0300
TZOFFSETTO:+0200
TZNAME:EET
DTSTART:20251026T010000
END:STANDARD
END:VTIMEZONE
BEGIN:VEVENT
DTSTART;TZID=Europe/Helsinki:20250629T080000
DTEND;TZID=Europe/Helsinki:20250629T130000
DTSTAMP:20260421T150250
CREATED:20250411T140123Z
LAST-MODIFIED:20250411T140123Z
UID:6900-1751184000-1751202000@weichsel-warthe.de
SUMMARY:Bundeskulturtagung der Landsmannschaft Weichsel Warthe
DESCRIPTION:
URL:https://weichsel-warthe.de/veranstaltung/bundeskulturtagung-der-landsmannschaft-weichsel-warthe-2/
LOCATION:Fulda
END:VEVENT
END:VCALENDAR