BEGIN:VCALENDAR
VERSION:2.0
PRODID:-//Landsmannschaft Weichsel-Warthe - ECPv6.2.2//NONSGML v1.0//EN
CALSCALE:GREGORIAN
METHOD:PUBLISH
X-WR-CALNAME:Landsmannschaft Weichsel-Warthe
X-ORIGINAL-URL:https://weichsel-warthe.de
X-WR-CALDESC:Veranstaltungen für Landsmannschaft Weichsel-Warthe
REFRESH-INTERVAL;VALUE=DURATION:PT1H
X-Robots-Tag:noindex
X-PUBLISHED-TTL:PT1H
BEGIN:VTIMEZONE
TZID:Europe/Helsinki
BEGIN:DAYLIGHT
TZOFFSETFROM:+0200
TZOFFSETTO:+0300
TZNAME:EEST
DTSTART:20250330T010000
END:DAYLIGHT
BEGIN:STANDARD
TZOFFSETFROM:+0300
TZOFFSETTO:+0200
TZNAME:EET
DTSTART:20251026T010000
END:STANDARD
END:VTIMEZONE
BEGIN:VEVENT
DTSTART;TZID=Europe/Helsinki:20250520T080000
DTEND;TZID=Europe/Helsinki:20250520T170000
DTSTAMP:20260425T133657
CREATED:20250411T135058Z
LAST-MODIFIED:20250411T135058Z
UID:6887-1747728000-1747760400@weichsel-warthe.de
SUMMARY:Geschichten und Gedichte aus dem schriftlichen Nachlass von Maria Eichel (Lemberg und Posen)
DESCRIPTION:
URL:https://weichsel-warthe.de/veranstaltung/geschichten-und-gedichte-aus-dem-schriftlichen-nachlass-von-maria-eichel-lemberg-und-posen/
LOCATION:Jena\, Jena
END:VEVENT
END:VCALENDAR